BEGIN:VCALENDAR
VERSION:2.0
PRODID:-//Samuel FunFlow - ECPv6.15.20//NONSGML v1.0//EN
CALSCALE:GREGORIAN
METHOD:PUBLISH
X-ORIGINAL-URL:https://samuelfunflow.com
X-WR-CALDESC:Events for Samuel FunFlow
REFRESH-INTERVAL;VALUE=DURATION:PT1H
X-Robots-Tag:noindex
X-PUBLISHED-TTL:PT1H
BEGIN:VTIMEZONE
TZID:UTC
BEGIN:STANDARD
TZOFFSETFROM:+0000
TZOFFSETTO:+0000
TZNAME:UTC
DTSTART:20250101T000000
END:STANDARD
END:VTIMEZONE
BEGIN:VEVENT
DTSTART;VALUE=DATE:20260828
DTEND;VALUE=DATE:20260831
DTSTAMP:20260421T123602
CREATED:20260201T115204Z
LAST-MODIFIED:20260201T115204Z
UID:1416-1787875200-1788134399@samuelfunflow.com
SUMMARY:🇺🇲 USA – Orlando – Bachata Sensual Weekend
DESCRIPTION:
URL:https://samuelfunflow.com/event/usa-orlando-bachata-sensual-weekend/
CATEGORIES:Festivals
END:VEVENT
END:VCALENDAR