BEGIN:VCALENDAR
VERSION:2.0
PRODID:-//Samuel FunFlow - ECPv6.15.20//NONSGML v1.0//EN
CALSCALE:GREGORIAN
METHOD:PUBLISH
X-ORIGINAL-URL:https://samuelfunflow.com
X-WR-CALDESC:Events for Samuel FunFlow
REFRESH-INTERVAL;VALUE=DURATION:PT1H
X-Robots-Tag:noindex
X-PUBLISHED-TTL:PT1H
BEGIN:VTIMEZONE
TZID:UTC
BEGIN:STANDARD
TZOFFSETFROM:+0000
TZOFFSETTO:+0000
TZNAME:UTC
DTSTART:20250101T000000
END:STANDARD
END:VTIMEZONE
BEGIN:VEVENT
DTSTART;VALUE=DATE:20260731
DTEND;VALUE=DATE:20260803
DTSTAMP:20260421T111204
CREATED:20260201T114906Z
LAST-MODIFIED:20260201T114906Z
UID:1412-1785456000-1785715199@samuelfunflow.com
SUMMARY:🇺🇲 USA – Seattle – Salsa Con Todo (SBZ)
DESCRIPTION:
URL:https://samuelfunflow.com/event/usa-seattle-salsa-con-todo-sbz-august-1/
CATEGORIES:Festivals
END:VEVENT
BEGIN:VEVENT
DTSTART;VALUE=DATE:20260807
DTEND;VALUE=DATE:20260810
DTSTAMP:20260421T111204
CREATED:20260201T114949Z
LAST-MODIFIED:20260201T114949Z
UID:1414-1786060800-1786319999@samuelfunflow.com
SUMMARY:🇺🇲 USA – Seattle – Salsa Con Todo (SBZ)
DESCRIPTION:
URL:https://samuelfunflow.com/event/usa-seattle-salsa-con-todo-sbz-august-7/
CATEGORIES:Festivals
END:VEVENT
BEGIN:VEVENT
DTSTART;VALUE=DATE:20260814
DTEND;VALUE=DATE:20260818
DTSTAMP:20260421T111204
CREATED:20251029T225421Z
LAST-MODIFIED:20251029T225421Z
UID:973-1786665600-1787011199@samuelfunflow.com
SUMMARY:🇺🇲 USA - Los Angeles - LA Bachata festival (Bachata)
DESCRIPTION:
URL:https://samuelfunflow.com/event/usa-los-angeles-la-festival-bachata/
CATEGORIES:Festivals
END:VEVENT
BEGIN:VEVENT
DTSTART;VALUE=DATE:20260820
DTEND;VALUE=DATE:20260825
DTSTAMP:20260421T111204
CREATED:20251029T225614Z
LAST-MODIFIED:20251029T225614Z
UID:975-1787184000-1787615999@samuelfunflow.com
SUMMARY:🇺🇲 USA - Washington D.C. - DCBX (SBKZ)
DESCRIPTION:
URL:https://samuelfunflow.com/event/usa-washington-dcbx-salsa-bachata-kizomba-zouk/
CATEGORIES:Festivals
END:VEVENT
BEGIN:VEVENT
DTSTART;VALUE=DATE:20260828
DTEND;VALUE=DATE:20260831
DTSTAMP:20260421T111204
CREATED:20260201T115204Z
LAST-MODIFIED:20260201T115204Z
UID:1416-1787875200-1788134399@samuelfunflow.com
SUMMARY:🇺🇲 USA – Orlando – Bachata Sensual Weekend
DESCRIPTION:
URL:https://samuelfunflow.com/event/usa-orlando-bachata-sensual-weekend/
CATEGORIES:Festivals
END:VEVENT
END:VCALENDAR